BEGIN:VCALENDAR
VERSION:2.0
PRODID:-//Azione Cattolica Torino - ECPv6.8.3//NONSGML v1.0//EN
CALSCALE:GREGORIAN
METHOD:PUBLISH
X-WR-CALNAME:Azione Cattolica Torino
X-ORIGINAL-URL:https://azionecattolicatorino.it
X-WR-CALDESC:Eventi per Azione Cattolica Torino
REFRESH-INTERVAL;VALUE=DURATION:PT1H
X-Robots-Tag:noindex
X-PUBLISHED-TTL:PT1H
BEGIN:VTIMEZONE
TZID:Europe/Rome
BEGIN:DAYLIGHT
TZOFFSETFROM:+0100
TZOFFSETTO:+0200
TZNAME:CEST
DTSTART:20240331T010000
END:DAYLIGHT
BEGIN:STANDARD
TZOFFSETFROM:+0200
TZOFFSETTO:+0100
TZNAME:CET
DTSTART:20241027T010000
END:STANDARD
END:VTIMEZONE
BEGIN:VEVENT
DTSTART;TZID=Europe/Rome:20240920T193000
DTEND;TZID=Europe/Rome:20240920T223000
DTSTAMP:20260420T094002
CREATED:20240723T152336Z
LAST-MODIFIED:20240919T141551Z
UID:7017-1726860600-1726871400@azionecattolicatorino.it
SUMMARY:Carichissimi
DESCRIPTION:
URL:https://azionecattolicatorino.it/event/carichissimi-3/
LOCATION:Parrocchia Beata Vergine delle Grazie\, via Marco Polo\, 6\, Torino\, Italia
CATEGORIES:Giovani
ATTACH;FMTTYPE=image/jpeg:https://azionecattolicatorino.it/wp-content/uploads/2024/09/WhatsApp-Image-2024-09-10-at-19.40.39.jpeg
END:VEVENT
END:VCALENDAR