BEGIN:VCALENDAR
VERSION:2.0
PRODID:-//Azione Cattolica Torino - ECPv6.8.3//NONSGML v1.0//EN
CALSCALE:GREGORIAN
METHOD:PUBLISH
X-WR-CALNAME:Azione Cattolica Torino
X-ORIGINAL-URL:https://azionecattolicatorino.it
X-WR-CALDESC:Eventi per Azione Cattolica Torino
REFRESH-INTERVAL;VALUE=DURATION:PT1H
X-Robots-Tag:noindex
X-PUBLISHED-TTL:PT1H
BEGIN:VTIMEZONE
TZID:Europe/Rome
BEGIN:DAYLIGHT
TZOFFSETFROM:+0100
TZOFFSETTO:+0200
TZNAME:CEST
DTSTART:20240331T010000
END:DAYLIGHT
BEGIN:STANDARD
TZOFFSETFROM:+0200
TZOFFSETTO:+0100
TZNAME:CET
DTSTART:20241027T010000
END:STANDARD
END:VTIMEZONE
BEGIN:VEVENT
DTSTART;TZID=Europe/Rome:20240915T180000
DTEND;TZID=Europe/Rome:20240915T223000
DTSTAMP:20260420T094857
CREATED:20240723T152231Z
LAST-MODIFIED:20240902T153041Z
UID:7015-1726423200-1726439400@azionecattolicatorino.it
SUMMARY:Presentazione dei cammini formativi
DESCRIPTION:
URL:https://azionecattolicatorino.it/event/presentazione-dei-cammini-formativi-5/
LOCATION:Centro diocesano\, Corso Giacomo Matteotti 11\, Torino\, 10121\, Italia
CATEGORIES:ACR,Adulti,Giovani
ATTACH;FMTTYPE=image/jpeg:https://azionecattolicatorino.it/wp-content/uploads/2024/07/locandina-presentazione-CF.jpeg
END:VEVENT
END:VCALENDAR