BEGIN:VCALENDAR
VERSION:2.0
PRODID:-//Azione Cattolica Torino - ECPv6.8.3//NONSGML v1.0//EN
CALSCALE:GREGORIAN
METHOD:PUBLISH
X-ORIGINAL-URL:https://azionecattolicatorino.it
X-WR-CALDESC:Eventi per Azione Cattolica Torino
REFRESH-INTERVAL;VALUE=DURATION:PT1H
X-Robots-Tag:noindex
X-PUBLISHED-TTL:PT1H
BEGIN:VTIMEZONE
TZID:Europe/Rome
BEGIN:DAYLIGHT
TZOFFSETFROM:+0100
TZOFFSETTO:+0200
TZNAME:CEST
DTSTART:20240331T010000
END:DAYLIGHT
BEGIN:STANDARD
TZOFFSETFROM:+0200
TZOFFSETTO:+0100
TZNAME:CET
DTSTART:20241027T010000
END:STANDARD
END:VTIMEZONE
BEGIN:VEVENT
DTSTART;VALUE=DATE:20240706
DTEND;VALUE=DATE:20240712
DTSTAMP:20260420T180544
CREATED:20240229T083730Z
LAST-MODIFIED:20240229T083730Z
UID:6826-1720224000-1720742399@azionecattolicatorino.it
SUMMARY:Campo III e IV superiore
DESCRIPTION:
URL:https://azionecattolicatorino.it/event/campo-iii-e-iv-superiore/
LOCATION:Capanna di Claviere\, Strada Comunale Valle Gimont\, 17\, Claviere\, 10050\, Italia
CATEGORIES:Giovani
END:VEVENT
END:VCALENDAR