BEGIN:VCALENDAR
VERSION:2.0
PRODID:-//Azione Cattolica Torino - ECPv6.8.3//NONSGML v1.0//EN
CALSCALE:GREGORIAN
METHOD:PUBLISH
X-WR-CALNAME:Azione Cattolica Torino
X-ORIGINAL-URL:https://azionecattolicatorino.it
X-WR-CALDESC:Eventi per Azione Cattolica Torino
REFRESH-INTERVAL;VALUE=DURATION:PT1H
X-Robots-Tag:noindex
X-PUBLISHED-TTL:PT1H
BEGIN:VTIMEZONE
TZID:Europe/Rome
BEGIN:DAYLIGHT
TZOFFSETFROM:+0100
TZOFFSETTO:+0200
TZNAME:CEST
DTSTART:20240331T010000
END:DAYLIGHT
BEGIN:STANDARD
TZOFFSETFROM:+0200
TZOFFSETTO:+0100
TZNAME:CET
DTSTART:20241027T010000
END:STANDARD
END:VTIMEZONE
BEGIN:VEVENT
DTSTART;VALUE=DATE:20240304
DTEND;VALUE=DATE:20240311
DTSTAMP:20260421T044319
CREATED:20230711T124617Z
LAST-MODIFIED:20240220T113750Z
UID:6278-1709510400-1710115199@azionecattolicatorino.it
SUMMARY:Settimana Comunitaria Giovani
DESCRIPTION:
URL:https://azionecattolicatorino.it/event/settimana-comunitaria-giovani/
LOCATION:Parrocchia Maria Regina della Pace\, via Malone 19\, Torino\, 10154\, Italia
CATEGORIES:Giovani
ATTACH;FMTTYPE=image/jpeg:https://azionecattolicatorino.it/wp-content/uploads/2024/02/Comunitaria-2024-1.jpg
END:VEVENT
END:VCALENDAR