BEGIN:VCALENDAR
VERSION:2.0
PRODID:-//Azione Cattolica Torino - ECPv6.8.3//NONSGML v1.0//EN
CALSCALE:GREGORIAN
METHOD:PUBLISH
X-WR-CALNAME:Azione Cattolica Torino
X-ORIGINAL-URL:https://azionecattolicatorino.it
X-WR-CALDESC:Eventi per Azione Cattolica Torino
REFRESH-INTERVAL;VALUE=DURATION:PT1H
X-Robots-Tag:noindex
X-PUBLISHED-TTL:PT1H
BEGIN:VTIMEZONE
TZID:Europe/Rome
BEGIN:DAYLIGHT
TZOFFSETFROM:+0100
TZOFFSETTO:+0200
TZNAME:CEST
DTSTART:20230326T010000
END:DAYLIGHT
BEGIN:STANDARD
TZOFFSETFROM:+0200
TZOFFSETTO:+0100
TZNAME:CET
DTSTART:20231029T010000
END:STANDARD
END:VTIMEZONE
BEGIN:VEVENT
DTSTART;TZID=Europe/Rome:20231125T150000
DTEND;TZID=Europe/Rome:20231126T180000
DTSTAMP:20260421T161536
CREATED:20230711T123750Z
LAST-MODIFIED:20231031T220600Z
UID:6254-1700924400-1701021600@azionecattolicatorino.it
SUMMARY:Ritiro Giovanissimi
DESCRIPTION:
URL:https://azionecattolicatorino.it/event/ritiro-giovanissimi/
LOCATION:Casalpina di Mompellato\, Casalpina Mompellato\, Rubiana\, Torino\, 10040\, Italia
CATEGORIES:Giovani
ATTACH;FMTTYPE=image/png:https://azionecattolicatorino.it/wp-content/uploads/2023/10/Avvento-Issimi-2023.png
END:VEVENT
END:VCALENDAR