BEGIN:VCALENDAR
VERSION:2.0
PRODID:-//Azione Cattolica Torino - ECPv6.8.3//NONSGML v1.0//EN
CALSCALE:GREGORIAN
METHOD:PUBLISH
X-WR-CALNAME:Azione Cattolica Torino
X-ORIGINAL-URL:https://azionecattolicatorino.it
X-WR-CALDESC:Eventi per Azione Cattolica Torino
REFRESH-INTERVAL;VALUE=DURATION:PT1H
X-Robots-Tag:noindex
X-PUBLISHED-TTL:PT1H
BEGIN:VTIMEZONE
TZID:Europe/Rome
BEGIN:DAYLIGHT
TZOFFSETFROM:+0100
TZOFFSETTO:+0200
TZNAME:CEST
DTSTART:20210328T010000
END:DAYLIGHT
BEGIN:STANDARD
TZOFFSETFROM:+0200
TZOFFSETTO:+0100
TZNAME:CET
DTSTART:20211031T010000
END:STANDARD
END:VTIMEZONE
BEGIN:VEVENT
DTSTART;VALUE=DATE:20210919
DTEND;VALUE=DATE:20210920
DTSTAMP:20260425T154641
CREATED:20210726T112601Z
LAST-MODIFIED:20210726T112601Z
UID:4530-1632009600-1632095999@azionecattolicatorino.it
SUMMARY:Festa di fine estate
DESCRIPTION:
URL:https://azionecattolicatorino.it/event/festa-di-fine-estate-4/
LOCATION:Casalpina di Mompellato\, Casalpina Mompellato\, Rubiana\, Torino\, 10040\, Italia
CATEGORIES:ACR,Adulti,Giovani
END:VEVENT
END:VCALENDAR