BEGIN:VCALENDAR
VERSION:2.0
PRODID:-//Azione Cattolica Torino - ECPv6.8.3//NONSGML v1.0//EN
CALSCALE:GREGORIAN
METHOD:PUBLISH
X-ORIGINAL-URL:https://azionecattolicatorino.it
X-WR-CALDESC:Eventi per Azione Cattolica Torino
REFRESH-INTERVAL;VALUE=DURATION:PT1H
X-Robots-Tag:noindex
X-PUBLISHED-TTL:PT1H
BEGIN:VTIMEZONE
TZID:Europe/Rome
BEGIN:DAYLIGHT
TZOFFSETFROM:+0100
TZOFFSETTO:+0200
TZNAME:CEST
DTSTART:20210328T010000
END:DAYLIGHT
BEGIN:STANDARD
TZOFFSETFROM:+0200
TZOFFSETTO:+0100
TZNAME:CET
DTSTART:20211031T010000
END:STANDARD
END:VTIMEZONE
BEGIN:VEVENT
DTSTART;VALUE=DATE:20210729
DTEND;VALUE=DATE:20210802
DTSTAMP:20260425T215533
CREATED:20210414T144012Z
LAST-MODIFIED:20210528T082623Z
UID:4147-1627516800-1627862399@azionecattolicatorino.it
SUMMARY:Campo giovani
DESCRIPTION:
URL:https://azionecattolicatorino.it/event/campo-giovani-3/
CATEGORIES:Giovani
ATTACH;FMTTYPE=image/jpeg:https://azionecattolicatorino.it/wp-content/uploads/2021/05/Giovani.jpeg
END:VEVENT
END:VCALENDAR