BEGIN:VCALENDAR
VERSION:2.0
PRODID:-//Azione Cattolica Torino - ECPv6.8.3//NONSGML v1.0//EN
CALSCALE:GREGORIAN
METHOD:PUBLISH
X-ORIGINAL-URL:https://azionecattolicatorino.it
X-WR-CALDESC:Eventi per Azione Cattolica Torino
REFRESH-INTERVAL;VALUE=DURATION:PT1H
X-Robots-Tag:noindex
X-PUBLISHED-TTL:PT1H
BEGIN:VTIMEZONE
TZID:Europe/Rome
BEGIN:DAYLIGHT
TZOFFSETFROM:+0100
TZOFFSETTO:+0200
TZNAME:CEST
DTSTART:20210328T010000
END:DAYLIGHT
BEGIN:STANDARD
TZOFFSETFROM:+0200
TZOFFSETTO:+0100
TZNAME:CET
DTSTART:20211031T010000
END:STANDARD
END:VTIMEZONE
BEGIN:VEVENT
DTSTART;TZID=Europe/Rome:20210520T190000
DTEND;TZID=Europe/Rome:20210520T210000
DTSTAMP:20260426T043453
CREATED:20200810T110915Z
LAST-MODIFIED:20210428T154423Z
UID:3434-1621537200-1621544400@azionecattolicatorino.it
SUMMARY:Incontro Poliedro
DESCRIPTION:
URL:https://azionecattolicatorino.it/event/incontro-poliedro-5/
LOCATION:Centro diocesano\, Corso Giacomo Matteotti 11\, Torino\, 10121\, Italia
CATEGORIES:Adulti,Giovani
ATTACH;FMTTYPE=image/jpeg:https://azionecattolicatorino.it/wp-content/uploads/2021/04/Poliedro-20-maggio.jpg
END:VEVENT
END:VCALENDAR