BEGIN:VCALENDAR
VERSION:2.0
PRODID:-//Azione Cattolica Torino - ECPv6.8.3//NONSGML v1.0//EN
CALSCALE:GREGORIAN
METHOD:PUBLISH
X-WR-CALNAME:Azione Cattolica Torino
X-ORIGINAL-URL:https://azionecattolicatorino.it
X-WR-CALDESC:Eventi per Azione Cattolica Torino
REFRESH-INTERVAL;VALUE=DURATION:PT1H
X-Robots-Tag:noindex
X-PUBLISHED-TTL:PT1H
BEGIN:VTIMEZONE
TZID:Europe/Rome
BEGIN:DAYLIGHT
TZOFFSETFROM:+0100
TZOFFSETTO:+0200
TZNAME:CEST
DTSTART:20220327T010000
END:DAYLIGHT
BEGIN:STANDARD
TZOFFSETFROM:+0200
TZOFFSETTO:+0100
TZNAME:CET
DTSTART:20221030T010000
END:STANDARD
END:VTIMEZONE
BEGIN:VEVENT
DTSTART;TZID=Europe/Rome:20220113T210000
DTEND;TZID=Europe/Rome:20220113T230000
DTSTAMP:20260425T154738
CREATED:20210726T120824Z
LAST-MODIFIED:20220111T121801Z
UID:4584-1642107600-1642114800@azionecattolicatorino.it
SUMMARY:Formazione educatori giovanissimi
DESCRIPTION:
URL:https://azionecattolicatorino.it/event/formazione-educatori-giovanissimi-2/
CATEGORIES:Giovani
ATTACH;FMTTYPE=image/jpeg:https://azionecattolicatorino.it/wp-content/uploads/2022/01/Formazione-Issimi-II-appuntamento-1.jpeg
END:VEVENT
BEGIN:VEVENT
DTSTART;TZID=Europe/Rome:20220124T183000
DTEND;TZID=Europe/Rome:20220124T210000
DTSTAMP:20260425T154738
CREATED:20210927T160752Z
LAST-MODIFIED:20210927T160752Z
UID:4734-1643049000-1643058000@azionecattolicatorino.it
SUMMARY:Adoro il lunedì
DESCRIPTION:
URL:https://azionecattolicatorino.it/event/adoro-il-lunedi-33/
LOCATION:Centro diocesano\, Corso Giacomo Matteotti 11\, Torino\, 10121\, Italia
CATEGORIES:Giovani
ATTACH;FMTTYPE=image/png:https://azionecattolicatorino.it/wp-content/uploads/2021/07/Adoro-il-Lunedì.png
END:VEVENT
BEGIN:VEVENT
DTSTART;TZID=Europe/Rome:20220204T204500
DTEND;TZID=Europe/Rome:20220204T230000
DTSTAMP:20260425T154738
CREATED:20210726T120846Z
LAST-MODIFIED:20220117T104436Z
UID:4586-1644007500-1644015600@azionecattolicatorino.it
SUMMARY:Festa della pace
DESCRIPTION:
URL:https://azionecattolicatorino.it/event/festa-della-pace-7/
CATEGORIES:Adulti,Giovani
ATTACH;FMTTYPE=image/png:https://azionecattolicatorino.it/wp-content/uploads/2022/01/Festa-Pace-Giovani-Adulti-2022-3.png
END:VEVENT
BEGIN:VEVENT
DTSTART;TZID=Europe/Rome:20220217T204500
DTEND;TZID=Europe/Rome:20220217T230000
DTSTAMP:20260425T154738
CREATED:20210726T121012Z
LAST-MODIFIED:20220129T163512Z
UID:4591-1645130700-1645138800@azionecattolicatorino.it
SUMMARY:Incontro Poliedro - Ecologia domestica
DESCRIPTION:
URL:https://azionecattolicatorino.it/event/incontro-poliedro-8/
LOCATION:Centro diocesano\, Corso Giacomo Matteotti 11\, Torino\, 10121\, Italia
CATEGORIES:Adulti,Giovani
ATTACH;FMTTYPE=image/jpeg:https://azionecattolicatorino.it/wp-content/uploads/2022/01/Poliedro-17-febbraio.jpeg
END:VEVENT
BEGIN:VEVENT
DTSTART;TZID=Europe/Rome:20220221T183000
DTEND;TZID=Europe/Rome:20220221T210000
DTSTAMP:20260425T154738
CREATED:20210927T160827Z
LAST-MODIFIED:20210927T160827Z
UID:4736-1645468200-1645477200@azionecattolicatorino.it
SUMMARY:Adoro il lunedì
DESCRIPTION:
URL:https://azionecattolicatorino.it/event/adoro-il-lunedi-34/
LOCATION:Centro diocesano\, Corso Giacomo Matteotti 11\, Torino\, 10121\, Italia
CATEGORIES:Giovani
ATTACH;FMTTYPE=image/png:https://azionecattolicatorino.it/wp-content/uploads/2021/07/Adoro-il-Lunedì.png
END:VEVENT
BEGIN:VEVENT
DTSTART;TZID=Europe/Rome:20220225T153000
DTEND;TZID=Europe/Rome:20220225T180000
DTSTAMP:20260425T154738
CREATED:20220127T081818Z
LAST-MODIFIED:20220127T081818Z
UID:5055-1645803000-1645812000@azionecattolicatorino.it
SUMMARY:Facoltà di scelta
DESCRIPTION:
URL:https://azionecattolicatorino.it/event/facolta-di-scelta-6/
CATEGORIES:Giovani
ATTACH;FMTTYPE=image/jpeg:https://azionecattolicatorino.it/wp-content/uploads/2022/01/Facoltà-di-scelta-25-febbraio.jpeg
END:VEVENT
BEGIN:VEVENT
DTSTART;TZID=Europe/Rome:20220306T143000
DTEND;TZID=Europe/Rome:20220306T180000
DTSTAMP:20260425T154738
CREATED:20210726T121123Z
LAST-MODIFIED:20220211T141318Z
UID:4595-1646577000-1646589600@azionecattolicatorino.it
SUMMARY:Assemblea diocesana
DESCRIPTION:
URL:https://azionecattolicatorino.it/event/assemblea-diocesana-4/
CATEGORIES:ACR,Adulti,Giovani
ATTACH;FMTTYPE=image/png:https://azionecattolicatorino.it/wp-content/uploads/2021/07/Assemblea-2022.png
END:VEVENT
BEGIN:VEVENT
DTSTART;VALUE=DATE:20220312
DTEND;VALUE=DATE:20220314
DTSTAMP:20260425T154738
CREATED:20210726T121154Z
LAST-MODIFIED:20220228T090252Z
UID:4597-1647043200-1647215999@azionecattolicatorino.it
SUMMARY:Ritiro quaresima giovanissimi
DESCRIPTION:
URL:https://azionecattolicatorino.it/event/ritiro-quaresima-giovanissimi-2/
LOCATION:Casalpina di Mompellato\, Casalpina Mompellato\, Rubiana\, Torino\, 10040\, Italia
CATEGORIES:Giovani
ATTACH;FMTTYPE=image/jpeg:https://azionecattolicatorino.it/wp-content/uploads/2022/02/Ritiro-di-Quaresima-Issimi.jpg
END:VEVENT
BEGIN:VEVENT
DTSTART;TZID=Europe/Rome:20220314T183000
DTEND;TZID=Europe/Rome:20220314T210000
DTSTAMP:20260425T154738
CREATED:20210927T160910Z
LAST-MODIFIED:20210927T160910Z
UID:4738-1647282600-1647291600@azionecattolicatorino.it
SUMMARY:Adoro il lunedì
DESCRIPTION:
URL:https://azionecattolicatorino.it/event/adoro-il-lunedi-35/
LOCATION:Centro diocesano\, Corso Giacomo Matteotti 11\, Torino\, 10121\, Italia
CATEGORIES:Giovani
ATTACH;FMTTYPE=image/png:https://azionecattolicatorino.it/wp-content/uploads/2021/07/Adoro-il-Lunedì.png
END:VEVENT
BEGIN:VEVENT
DTSTART;TZID=Europe/Rome:20220317T204500
DTEND;TZID=Europe/Rome:20220317T230000
DTSTAMP:20260425T154738
CREATED:20210726T121218Z
LAST-MODIFIED:20220305T110009Z
UID:4599-1647549900-1647558000@azionecattolicatorino.it
SUMMARY:Incontro Poliedro
DESCRIPTION:
URL:https://azionecattolicatorino.it/event/incontro-poliedro-9/
LOCATION:Centro diocesano\, Corso Giacomo Matteotti 11\, Torino\, 10121\, Italia
CATEGORIES:Adulti,Giovani
ATTACH;FMTTYPE=image/jpeg:https://azionecattolicatorino.it/wp-content/uploads/2022/03/il-lavoro-nella-nuova-normalita-voci-dal-mondo-it-poliedro-coworking-torino.jpg
END:VEVENT
BEGIN:VEVENT
DTSTART;VALUE=DATE:20220326
DTEND;VALUE=DATE:20220328
DTSTAMP:20260425T154738
CREATED:20210726T121403Z
LAST-MODIFIED:20220228T090414Z
UID:4603-1648252800-1648425599@azionecattolicatorino.it
SUMMARY:Ritiro quaresima giovani
DESCRIPTION:
URL:https://azionecattolicatorino.it/event/ritiro-quaresima-giovani-2/
LOCATION:Casa Pier Giorgio Frassati – Cesana\, Casa Pier Giorgio Frassati\, Cesana Torinese\, Torino\, 10054
CATEGORIES:Giovani
ATTACH;FMTTYPE=image/jpeg:https://azionecattolicatorino.it/wp-content/uploads/2022/02/Ritiro-di-Quaresima-Giovani.jpeg
END:VEVENT
BEGIN:VEVENT
DTSTART;VALUE=DATE:20220404
DTEND;VALUE=DATE:20220410
DTSTAMP:20260425T154738
CREATED:20220228T091042Z
LAST-MODIFIED:20220301T081156Z
UID:5206-1649030400-1649548799@azionecattolicatorino.it
SUMMARY:Settimana comunitaria 2022
DESCRIPTION:
URL:https://azionecattolicatorino.it/event/settimana-comunitaria-2022/
CATEGORIES:Giovani
ATTACH;FMTTYPE=image/png:https://azionecattolicatorino.it/wp-content/uploads/2022/03/Comunitaria-2022.png
END:VEVENT
BEGIN:VEVENT
DTSTART;TZID=Europe/Rome:20220404T183000
DTEND;TZID=Europe/Rome:20220404T210000
DTSTAMP:20260425T154738
CREATED:20210927T160943Z
LAST-MODIFIED:20210927T160943Z
UID:4740-1649097000-1649106000@azionecattolicatorino.it
SUMMARY:Adoro il lunedì
DESCRIPTION:
URL:https://azionecattolicatorino.it/event/adoro-il-lunedi-36/
LOCATION:Centro diocesano\, Corso Giacomo Matteotti 11\, Torino\, 10121\, Italia
CATEGORIES:Giovani
ATTACH;FMTTYPE=image/png:https://azionecattolicatorino.it/wp-content/uploads/2021/07/Adoro-il-Lunedì.png
END:VEVENT
BEGIN:VEVENT
DTSTART;VALUE=DATE:20220511
DTEND;VALUE=DATE:20220512
DTSTAMP:20260425T154738
CREATED:20210726T121620Z
LAST-MODIFIED:20210726T121620Z
UID:4613-1652227200-1652313599@azionecattolicatorino.it
SUMMARY:Presentazione campi estivi
DESCRIPTION:
URL:https://azionecattolicatorino.it/event/presentazione-campi-estivi-2/
CATEGORIES:Giovani
END:VEVENT
BEGIN:VEVENT
DTSTART;TZID=Europe/Rome:20220512T204500
DTEND;TZID=Europe/Rome:20220512T230000
DTSTAMP:20260425T154738
CREATED:20210726T121648Z
LAST-MODIFIED:20220502T084627Z
UID:4615-1652388300-1652396400@azionecattolicatorino.it
SUMMARY:Incontro Poliedro
DESCRIPTION:
URL:https://azionecattolicatorino.it/event/incontro-poliedro-10/
LOCATION:Centro diocesano\, Corso Giacomo Matteotti 11\, Torino\, 10121\, Italia
CATEGORIES:Adulti,Giovani
ATTACH;FMTTYPE=image/jpeg:https://azionecattolicatorino.it/wp-content/uploads/2022/05/12maggio2022-1_page-0001.jpg
END:VEVENT
BEGIN:VEVENT
DTSTART;TZID=Europe/Rome:20220516T183000
DTEND;TZID=Europe/Rome:20220516T210000
DTSTAMP:20260425T154738
CREATED:20210927T161015Z
LAST-MODIFIED:20210927T161015Z
UID:4742-1652725800-1652734800@azionecattolicatorino.it
SUMMARY:Adoro il lunedì
DESCRIPTION:
URL:https://azionecattolicatorino.it/event/adoro-il-lunedi-37/
LOCATION:Centro diocesano\, Corso Giacomo Matteotti 11\, Torino\, 10121\, Italia
CATEGORIES:Giovani
ATTACH;FMTTYPE=image/png:https://azionecattolicatorino.it/wp-content/uploads/2021/07/Adoro-il-Lunedì.png
END:VEVENT
BEGIN:VEVENT
DTSTART;TZID=Europe/Rome:20220520T204500
DTEND;TZID=Europe/Rome:20220520T230000
DTSTAMP:20260425T154738
CREATED:20210726T121759Z
LAST-MODIFIED:20220429T133019Z
UID:4619-1653079500-1653087600@azionecattolicatorino.it
SUMMARY:Serata sulle orme di Odoardo Focherini
DESCRIPTION:
URL:https://azionecattolicatorino.it/event/serata-sulle-orme-di-odoardo-focherini/
LOCATION:parrocchia Santo Volto\, Via Val della Torre\, 11\, Torino\, Italia
CATEGORIES:Adulti,Giovani
ATTACH;FMTTYPE=image/png:https://azionecattolicatorino.it/wp-content/uploads/2022/04/Più-di-così-non-si-può-amare.png
END:VEVENT
BEGIN:VEVENT
DTSTART;VALUE=DATE:20220527
DTEND;VALUE=DATE:20220530
DTSTAMP:20260425T154738
CREATED:20210726T121528Z
LAST-MODIFIED:20220301T120302Z
UID:4609-1653609600-1653868799@azionecattolicatorino.it
SUMMARY:Esercizi spirituali
DESCRIPTION:
URL:https://azionecattolicatorino.it/event/esercizi-spirituali/
CATEGORIES:Adulti,Giovani
END:VEVENT
BEGIN:VEVENT
DTSTART;VALUE=DATE:20220618
DTEND;VALUE=DATE:20220619
DTSTAMP:20260425T154738
CREATED:20210726T121818Z
LAST-MODIFIED:20220603T082613Z
UID:4621-1655510400-1655596799@azionecattolicatorino.it
SUMMARY:Terzo incontro su don Giorgio e don Fiorenzo
DESCRIPTION:
URL:https://azionecattolicatorino.it/event/terzo-incontro-su-don-giorgio-e-don-fiorenzo/
CATEGORIES:ACR,Adulti,Giovani
ATTACH;FMTTYPE=image/png:https://azionecattolicatorino.it/wp-content/uploads/2022/06/volantino-Piovano-Lana-18-giugno-finale.png
END:VEVENT
BEGIN:VEVENT
DTSTART;VALUE=DATE:20220629
DTEND;VALUE=DATE:20220705
DTSTAMP:20260425T154738
CREATED:20220209T154320Z
LAST-MODIFIED:20220413T155318Z
UID:5113-1656460800-1656979199@azionecattolicatorino.it
SUMMARY:Campo terza e quarta superiore
DESCRIPTION:
URL:https://azionecattolicatorino.it/event/campo-terza-e-quarta-superiore-2/
CATEGORIES:Giovani
ATTACH;FMTTYPE=image/png:https://azionecattolicatorino.it/wp-content/uploads/2022/04/campi.png
END:VEVENT
BEGIN:VEVENT
DTSTART;VALUE=DATE:20220710
DTEND;VALUE=DATE:20220716
DTSTAMP:20260425T154738
CREATED:20220209T154354Z
LAST-MODIFIED:20220413T155409Z
UID:5115-1657411200-1657929599@azionecattolicatorino.it
SUMMARY:Campo prima e seconda superiore
DESCRIPTION:
URL:https://azionecattolicatorino.it/event/campo-prima-e-seconda-superiore-2/
CATEGORIES:Giovani
ATTACH;FMTTYPE=image/png:https://azionecattolicatorino.it/wp-content/uploads/2022/04/campi.png
END:VEVENT
BEGIN:VEVENT
DTSTART;VALUE=DATE:20220715
DTEND;VALUE=DATE:20220719
DTSTAMP:20260425T154738
CREATED:20220209T154429Z
LAST-MODIFIED:20220615T121801Z
UID:5117-1657843200-1658188799@azionecattolicatorino.it
SUMMARY:Campo quinta superiore
DESCRIPTION:
URL:https://azionecattolicatorino.it/event/campo-quinta-superiore-2/
CATEGORIES:Giovani
ATTACH;FMTTYPE=image/jpeg:https://azionecattolicatorino.it/wp-content/uploads/2022/06/IMG-20220607-WA0005.jpg
END:VEVENT
BEGIN:VEVENT
DTSTART;VALUE=DATE:20220803
DTEND;VALUE=DATE:20220809
DTSTAMP:20260425T154738
CREATED:20220209T154506Z
LAST-MODIFIED:20220521T162756Z
UID:5119-1659484800-1660003199@azionecattolicatorino.it
SUMMARY:Campo giovani
DESCRIPTION:
URL:https://azionecattolicatorino.it/event/campo-giovani-4/
CATEGORIES:Giovani
ATTACH;FMTTYPE=image/jpeg:https://azionecattolicatorino.it/wp-content/uploads/2022/05/Santiago.jpg
END:VEVENT
BEGIN:VEVENT
DTSTART;VALUE=DATE:20220823
DTEND;VALUE=DATE:20220829
DTSTAMP:20260425T154738
CREATED:20220209T154208Z
LAST-MODIFIED:20220621T083557Z
UID:5111-1661212800-1661731199@azionecattolicatorino.it
SUMMARY:Campo futuri educatori
DESCRIPTION:
URL:https://azionecattolicatorino.it/event/campo-futuri-educatori-4/
CATEGORIES:ACR,Giovani
ATTACH;FMTTYPE=image/jpeg:https://azionecattolicatorino.it/wp-content/uploads/2022/06/Volantino-futuri.jpg
END:VEVENT
BEGIN:VEVENT
DTSTART;VALUE=DATE:20220907
DTEND;VALUE=DATE:20220908
DTSTAMP:20260425T154738
CREATED:20220725T152257Z
LAST-MODIFIED:20220725T152323Z
UID:5483-1662508800-1662595199@azionecattolicatorino.it
SUMMARY:Comitato presidenti
DESCRIPTION:
URL:https://azionecattolicatorino.it/event/comitato-presidenti/
CATEGORIES:ACR,Adulti,Giovani
END:VEVENT
BEGIN:VEVENT
DTSTART;TZID=Europe/Rome:20220916T193000
DTEND;TZID=Europe/Rome:20220916T230000
DTSTAMP:20260425T154738
CREATED:20220725T152410Z
LAST-MODIFIED:20220907T100733Z
UID:5485-1663356600-1663369200@azionecattolicatorino.it
SUMMARY:Carichissimi
DESCRIPTION:
URL:https://azionecattolicatorino.it/event/carichissimi/
LOCATION:Centro diocesano\, Corso Giacomo Matteotti 11\, Torino\, 10121\, Italia
CATEGORIES:Giovani
ATTACH;FMTTYPE=image/jpeg:https://azionecattolicatorino.it/wp-content/uploads/2022/09/carichissimi.jpg
END:VEVENT
BEGIN:VEVENT
DTSTART;TZID=Europe/Rome:20220918T100000
DTEND;TZID=Europe/Rome:20220918T170000
DTSTAMP:20260425T154738
CREATED:20220725T152446Z
LAST-MODIFIED:20220901T110839Z
UID:5487-1663495200-1663520400@azionecattolicatorino.it
SUMMARY:Casalpina Open Fest
DESCRIPTION:
URL:https://azionecattolicatorino.it/event/casalpina-open-fest/
LOCATION:Casalpina di Mompellato\, Casalpina Mompellato\, Rubiana\, Torino\, 10040\, Italia
CATEGORIES:ACR,Adulti,Giovani
ATTACH;FMTTYPE=image/jpeg:https://azionecattolicatorino.it/wp-content/uploads/2022/09/Open-Fest.jpg
END:VEVENT
BEGIN:VEVENT
DTSTART;TZID=Europe/Rome:20220925T190000
DTEND;TZID=Europe/Rome:20220925T223000
DTSTAMP:20260425T154738
CREATED:20220725T152749Z
LAST-MODIFIED:20220901T110950Z
UID:5491-1664132400-1664145000@azionecattolicatorino.it
SUMMARY:Presentazione dei cammini formativi
DESCRIPTION:
URL:https://azionecattolicatorino.it/event/presentazione-dei-cammini-formativi-4/
LOCATION:parrocchia Santa Maria della Stella\, Via Fratelli Piol\, 44\, Rivoli\, 10098\, Italia
CATEGORIES:ACR,Adulti,Giovani
ATTACH;FMTTYPE=image/jpeg:https://azionecattolicatorino.it/wp-content/uploads/2022/09/Presentazione-Cammini-22.jpg
END:VEVENT
BEGIN:VEVENT
DTSTART;TZID=Europe/Rome:20221004T190000
DTEND;TZID=Europe/Rome:20221004T210000
DTSTAMP:20260425T154739
CREATED:20220725T152910Z
LAST-MODIFIED:20220927T075836Z
UID:5493-1664910000-1664917200@azionecattolicatorino.it
SUMMARY:AperiEDU
DESCRIPTION:
URL:https://azionecattolicatorino.it/event/aperitivo-educatori-giovanissimi/
LOCATION:Centro diocesano\, Corso Giacomo Matteotti 11\, Torino\, 10121\, Italia
CATEGORIES:Giovani
ATTACH;FMTTYPE=image/jpeg:https://azionecattolicatorino.it/wp-content/uploads/2022/09/Aperitivo-educatori-Issimi.jpg
END:VEVENT
BEGIN:VEVENT
DTSTART;TZID=Europe/Rome:20221012T193000
DTEND;TZID=Europe/Rome:20221012T230000
DTSTAMP:20260425T154739
CREATED:20220725T153112Z
LAST-MODIFIED:20221003T101815Z
UID:5499-1665603000-1665615600@azionecattolicatorino.it
SUMMARY:Torino Centro
DESCRIPTION:
URL:https://azionecattolicatorino.it/event/torino-centro-2/
LOCATION:Centro diocesano\, Corso Giacomo Matteotti 11\, Torino\, 10121\, Italia
CATEGORIES:Giovani
ATTACH;FMTTYPE=image/jpeg:https://azionecattolicatorino.it/wp-content/uploads/2022/10/Tocentro.jpg
END:VEVENT
END:VCALENDAR