BEGIN:VCALENDAR
VERSION:2.0
PRODID:-//Azione Cattolica Torino - ECPv6.8.3//NONSGML v1.0//EN
CALSCALE:GREGORIAN
METHOD:PUBLISH
X-ORIGINAL-URL:https://azionecattolicatorino.it
X-WR-CALDESC:Eventi per Azione Cattolica Torino
REFRESH-INTERVAL;VALUE=DURATION:PT1H
X-Robots-Tag:noindex
X-PUBLISHED-TTL:PT1H
BEGIN:VTIMEZONE
TZID:Europe/Rome
BEGIN:DAYLIGHT
TZOFFSETFROM:+0100
TZOFFSETTO:+0200
TZNAME:CEST
DTSTART:20250330T010000
END:DAYLIGHT
BEGIN:STANDARD
TZOFFSETFROM:+0200
TZOFFSETTO:+0100
TZNAME:CET
DTSTART:20251026T010000
END:STANDARD
END:VTIMEZONE
BEGIN:VEVENT
DTSTART;TZID=Europe/Rome:20250117T193000
DTEND;TZID=Europe/Rome:20250117T230000
DTSTAMP:20260419T145309
CREATED:20240723T153359Z
LAST-MODIFIED:20241216T085124Z
UID:7045-1737142200-1737154800@azionecattolicatorino.it
SUMMARY:Facoltà di scelta
DESCRIPTION:
URL:https://azionecattolicatorino.it/event/facolta-di-scelta-9/
LOCATION:Centro diocesano\, Corso Giacomo Matteotti 11\, Torino\, 10121\, Italia
CATEGORIES:Giovani
ATTACH;FMTTYPE=image/png:https://azionecattolicatorino.it/wp-content/uploads/2024/12/facolta-2.png
END:VEVENT
BEGIN:VEVENT
DTSTART;TZID=Europe/Rome:20250131T204500
DTEND;TZID=Europe/Rome:20250131T230000
DTSTAMP:20260419T145309
CREATED:20240723T153432Z
LAST-MODIFIED:20250107T141057Z
UID:7047-1738356300-1738364400@azionecattolicatorino.it
SUMMARY:Festa della pace - Giovani e Adulti
DESCRIPTION:
URL:https://azionecattolicatorino.it/event/festa-della-pace-giovani-e-adulti-4/
LOCATION:Teatro San Barnaba\, Str. Castello di Mirafiori\, 40\, Torino\, Torino\, 10127\, Italy
CATEGORIES:Adulti,Giovani
ATTACH;FMTTYPE=image/jpeg:https://azionecattolicatorino.it/wp-content/uploads/2025/01/festa-pace-giovani-e-adulti-2025.jpeg
END:VEVENT
END:VCALENDAR