BEGIN:VCALENDAR
VERSION:2.0
PRODID:-//Azione Cattolica Torino - ECPv6.8.3//NONSGML v1.0//EN
CALSCALE:GREGORIAN
METHOD:PUBLISH
X-ORIGINAL-URL:https://azionecattolicatorino.it
X-WR-CALDESC:Eventi per Azione Cattolica Torino
REFRESH-INTERVAL;VALUE=DURATION:PT1H
X-Robots-Tag:noindex
X-PUBLISHED-TTL:PT1H
BEGIN:VTIMEZONE
TZID:Europe/Rome
BEGIN:DAYLIGHT
TZOFFSETFROM:+0100
TZOFFSETTO:+0200
TZNAME:CEST
DTSTART:20240331T010000
END:DAYLIGHT
BEGIN:STANDARD
TZOFFSETFROM:+0200
TZOFFSETTO:+0100
TZNAME:CET
DTSTART:20241027T010000
END:STANDARD
END:VTIMEZONE
BEGIN:VEVENT
DTSTART;TZID=Europe/Rome:20241103T170000
DTEND;TZID=Europe/Rome:20241103T180000
DTSTAMP:20260420T005936
CREATED:20240826T101715Z
LAST-MODIFIED:20241020T155602Z
UID:7082-1730653200-1730656800@azionecattolicatorino.it
SUMMARY:Messa in suffragio dei soci defunti
DESCRIPTION:
URL:https://azionecattolicatorino.it/event/messa-in-suffragio-dei-soci-defunti-6/
LOCATION:Centro diocesano\, Corso Giacomo Matteotti 11\, Torino\, 10121\, Italia
CATEGORIES:ACR,Adulti,Giovani
ATTACH;FMTTYPE=image/jpeg:https://azionecattolicatorino.it/wp-content/uploads/2024/10/messa-defunti.jpeg
END:VEVENT
BEGIN:VEVENT
DTSTART;TZID=Europe/Rome:20241109T150000
DTEND;TZID=Europe/Rome:20241109T180000
DTSTAMP:20260420T005936
CREATED:20240723T153010Z
LAST-MODIFIED:20241028T140034Z
UID:7031-1731164400-1731175200@azionecattolicatorino.it
SUMMARY:Incontro in ricordo di Beppe Elia
DESCRIPTION:
URL:https://azionecattolicatorino.it/event/incontro-in-ricordo-di-beppe-elia/
LOCATION:Polo culturale CAM\, via Cialdini 4\, Torino\, Italy
CATEGORIES:ACR,Adulti,Giovani
ATTACH;FMTTYPE=image/png:https://azionecattolicatorino.it/wp-content/uploads/2024/07/convegno-per-Beppe-Elia-file-per-siti-e-per-whatsapp.png
END:VEVENT
BEGIN:VEVENT
DTSTART;TZID=Europe/Rome:20241117T150000
DTEND;TZID=Europe/Rome:20241117T183000
DTSTAMP:20260420T005936
CREATED:20241028T095539Z
LAST-MODIFIED:20241028T095539Z
UID:7176-1731855600-1731868200@azionecattolicatorino.it
SUMMARY:Convegno educatori ACR e Issimi
DESCRIPTION:
URL:https://azionecattolicatorino.it/event/convegno-educatori-acr-e-issimi-2/
LOCATION:Parrocchia Immacolata Concezione e San Donato\, via Saccarelli 10\, Torino\, Italia
CATEGORIES:ACR,Giovani
ATTACH;FMTTYPE=image/jpeg:https://azionecattolicatorino.it/wp-content/uploads/2024/10/convegno-educatori.jpg
END:VEVENT
BEGIN:VEVENT
DTSTART;VALUE=DATE:20241123
DTEND;VALUE=DATE:20241125
DTSTAMP:20260420T005936
CREATED:20240723T153122Z
LAST-MODIFIED:20241108T120151Z
UID:7035-1732320000-1732492799@azionecattolicatorino.it
SUMMARY:Ritiro d'avvento Giovani
DESCRIPTION:
URL:https://azionecattolicatorino.it/event/ritiro-davvento-giovani-3/
LOCATION:Capanna di Claviere\, Strada Comunale Valle Gimont\, 17\, Claviere\, 10050\, Italia
CATEGORIES:Giovani
ATTACH;FMTTYPE=image/jpeg:https://azionecattolicatorino.it/wp-content/uploads/2024/11/ritiro-giovani-1.jpeg
END:VEVENT
BEGIN:VEVENT
DTSTART;VALUE=DATE:20241130
DTEND;VALUE=DATE:20241202
DTSTAMP:20260420T005936
CREATED:20240723T153150Z
LAST-MODIFIED:20241108T120128Z
UID:7037-1732924800-1733097599@azionecattolicatorino.it
SUMMARY:Ritiro d'avvento Giovanissimi
DESCRIPTION:
URL:https://azionecattolicatorino.it/event/ritiro-davvento-giovanissimi-2/
LOCATION:Casalpina di Mompellato\, Casalpina Mompellato\, Rubiana\, Torino\, 10040\, Italia
CATEGORIES:Giovani
ATTACH;FMTTYPE=image/jpeg:https://azionecattolicatorino.it/wp-content/uploads/2024/11/ritiro-giovanissimi-1.jpeg
END:VEVENT
END:VCALENDAR