BEGIN:VCALENDAR
VERSION:2.0
PRODID:-//Azione Cattolica Torino - ECPv6.8.3//NONSGML v1.0//EN
CALSCALE:GREGORIAN
METHOD:PUBLISH
X-WR-CALNAME:Azione Cattolica Torino
X-ORIGINAL-URL:https://azionecattolicatorino.it
X-WR-CALDESC:Eventi per Azione Cattolica Torino
REFRESH-INTERVAL;VALUE=DURATION:PT1H
X-Robots-Tag:noindex
X-PUBLISHED-TTL:PT1H
BEGIN:VTIMEZONE
TZID:Europe/Rome
BEGIN:DAYLIGHT
TZOFFSETFROM:+0100
TZOFFSETTO:+0200
TZNAME:CEST
DTSTART:20240331T010000
END:DAYLIGHT
BEGIN:STANDARD
TZOFFSETFROM:+0200
TZOFFSETTO:+0100
TZNAME:CET
DTSTART:20241027T010000
END:STANDARD
END:VTIMEZONE
BEGIN:VEVENT
DTSTART;VALUE=DATE:20241006
DTEND;VALUE=DATE:20241007
DTSTAMP:20260420T041954
CREATED:20240923T152136Z
LAST-MODIFIED:20240923T152136Z
UID:7120-1728172800-1728259199@azionecattolicatorino.it
SUMMARY:Gita in montagna
DESCRIPTION:
URL:https://azionecattolicatorino.it/event/gita-in-montagna/
CATEGORIES:Giovani
ATTACH;FMTTYPE=image/png:https://azionecattolicatorino.it/wp-content/uploads/2024/09/GITA-IN-MONTAGNA.png
END:VEVENT
BEGIN:VEVENT
DTSTART;TZID=Europe/Rome:20241018T194500
DTEND;TZID=Europe/Rome:20241018T230000
DTSTAMP:20260420T041954
CREATED:20240723T152756Z
LAST-MODIFIED:20241014T125856Z
UID:7023-1729280700-1729292400@azionecattolicatorino.it
SUMMARY:Torino Centro
DESCRIPTION:
URL:https://azionecattolicatorino.it/event/torino-centro-3/
LOCATION:Centro diocesano\, Corso Giacomo Matteotti 11\, Torino\, 10121\, Italia
CATEGORIES:Giovani
ATTACH;FMTTYPE=image/png:https://azionecattolicatorino.it/wp-content/uploads/2024/10/elementare.png
END:VEVENT
BEGIN:VEVENT
DTSTART;TZID=Europe/Rome:20241022T150000
DTEND;TZID=Europe/Rome:20241022T183000
DTSTAMP:20260420T041954
CREATED:20241022T120932Z
LAST-MODIFIED:20241022T120932Z
UID:7164-1729609200-1729621800@azionecattolicatorino.it
SUMMARY:Convegno educatori ACR e Issimi
DESCRIPTION:
URL:https://azionecattolicatorino.it/event/convegno-educatori-acr-e-issimi/
LOCATION:Parrocchia Immacolata Concezione e San Donato\, via Saccarelli 10\, Torino\, Italia
CATEGORIES:ACR,Giovani
ATTACH;FMTTYPE=image/jpeg:https://azionecattolicatorino.it/wp-content/uploads/2024/10/convegno-educatori.jpg
END:VEVENT
END:VCALENDAR