BEGIN:VCALENDAR
VERSION:2.0
PRODID:-//Azione Cattolica Torino - ECPv6.8.3//NONSGML v1.0//EN
CALSCALE:GREGORIAN
METHOD:PUBLISH
X-ORIGINAL-URL:https://azionecattolicatorino.it
X-WR-CALDESC:Eventi per Azione Cattolica Torino
REFRESH-INTERVAL;VALUE=DURATION:PT1H
X-Robots-Tag:noindex
X-PUBLISHED-TTL:PT1H
BEGIN:VTIMEZONE
TZID:Europe/Rome
BEGIN:DAYLIGHT
TZOFFSETFROM:+0100
TZOFFSETTO:+0200
TZNAME:CEST
DTSTART:20230326T010000
END:DAYLIGHT
BEGIN:STANDARD
TZOFFSETFROM:+0200
TZOFFSETTO:+0100
TZNAME:CET
DTSTART:20231029T010000
END:STANDARD
END:VTIMEZONE
BEGIN:VEVENT
DTSTART;VALUE=DATE:20231214
DTEND;VALUE=DATE:20231215
DTSTAMP:20260421T080821
CREATED:20230711T124246Z
LAST-MODIFIED:20230724T145107Z
UID:6264-1702512000-1702598399@azionecattolicatorino.it
SUMMARY:Facoltà di Scelta
DESCRIPTION:
URL:https://azionecattolicatorino.it/event/facolta-di-scelta-8/
LOCATION:Centro diocesano\, Corso Giacomo Matteotti 11\, Torino\, 10121\, Italia
CATEGORIES:Giovani
END:VEVENT
BEGIN:VEVENT
DTSTART;TZID=Europe/Rome:20231216T163000
DTEND;TZID=Europe/Rome:20231217T180000
DTSTAMP:20260421T080821
CREATED:20230711T124225Z
LAST-MODIFIED:20231114T154141Z
UID:6262-1702744200-1702836000@azionecattolicatorino.it
SUMMARY:Ritiro Avvento Giovani
DESCRIPTION:
URL:https://azionecattolicatorino.it/event/ritiro-avvento-giovani-4/
LOCATION:Capanna di Claviere\, Strada Comunale Valle Gimont\, 17\, Claviere\, 10050\, Italia
CATEGORIES:Giovani
ATTACH;FMTTYPE=image/jpeg:https://azionecattolicatorino.it/wp-content/uploads/2023/11/Giovani-1.jpg
END:VEVENT
BEGIN:VEVENT
DTSTART;TZID=Europe/Rome:20231224T170000
DTEND;TZID=Europe/Rome:20231224T190000
DTSTAMP:20260421T080821
CREATED:20230711T124351Z
LAST-MODIFIED:20230711T124351Z
UID:6266-1703437200-1703444400@azionecattolicatorino.it
SUMMARY:Vespri Natale
DESCRIPTION:
URL:https://azionecattolicatorino.it/event/vespri-natale/
LOCATION:Centro diocesano\, Corso Giacomo Matteotti 11\, Torino\, 10121\, Italia
CATEGORIES:ACR,Adulti,Giovani
END:VEVENT
END:VCALENDAR