BEGIN:VCALENDAR
VERSION:2.0
PRODID:-//Azione Cattolica Torino - ECPv6.8.3//NONSGML v1.0//EN
CALSCALE:GREGORIAN
METHOD:PUBLISH
X-WR-CALNAME:Azione Cattolica Torino
X-ORIGINAL-URL:https://azionecattolicatorino.it
X-WR-CALDESC:Eventi per Azione Cattolica Torino
REFRESH-INTERVAL;VALUE=DURATION:PT1H
X-Robots-Tag:noindex
X-PUBLISHED-TTL:PT1H
BEGIN:VTIMEZONE
TZID:Europe/Rome
BEGIN:DAYLIGHT
TZOFFSETFROM:+0100
TZOFFSETTO:+0200
TZNAME:CEST
DTSTART:20230326T010000
END:DAYLIGHT
BEGIN:STANDARD
TZOFFSETFROM:+0200
TZOFFSETTO:+0100
TZNAME:CET
DTSTART:20231029T010000
END:STANDARD
END:VTIMEZONE
BEGIN:VEVENT
DTSTART;TZID=Europe/Rome:20230508T190000
DTEND;TZID=Europe/Rome:20230508T213000
DTSTAMP:20260422T014942
CREATED:20220725T155846Z
LAST-MODIFIED:20221003T104248Z
UID:5568-1683572400-1683581400@azionecattolicatorino.it
SUMMARY:Adoro il lunedì
DESCRIPTION:
URL:https://azionecattolicatorino.it/event/adoro-il-lunedi-44/
LOCATION:Centro diocesano\, Corso Giacomo Matteotti 11\, Torino\, 10121\, Italia
CATEGORIES:Giovani
ATTACH;FMTTYPE=image/jpeg:https://azionecattolicatorino.it/wp-content/uploads/2022/10/Adoro-il-lunedì-22.jpg
END:VEVENT
BEGIN:VEVENT
DTSTART;TZID=Europe/Rome:20230511T210000
DTEND;TZID=Europe/Rome:20230511T230000
DTSTAMP:20260422T014942
CREATED:20220725T155932Z
LAST-MODIFIED:20230509T122511Z
UID:5570-1683838800-1683846000@azionecattolicatorino.it
SUMMARY:Presentazione campi estivi
DESCRIPTION:
URL:https://azionecattolicatorino.it/event/presentazione-campi-estivi-3/
LOCATION:Centro diocesano\, Corso Giacomo Matteotti 11\, Torino\, 10121\, Italia
CATEGORIES:ACR,Giovani
ATTACH;FMTTYPE=image/png:https://azionecattolicatorino.it/wp-content/uploads/2023/04/AC_Campi_2023.png
END:VEVENT
BEGIN:VEVENT
DTSTART;TZID=Europe/Rome:20230519T193000
DTEND;TZID=Europe/Rome:20230519T230000
DTSTAMP:20260422T014942
CREATED:20220725T160012Z
LAST-MODIFIED:20230504T141701Z
UID:5572-1684524600-1684537200@azionecattolicatorino.it
SUMMARY:Serata sulle orme di Charles de Foucauld
DESCRIPTION:
URL:https://azionecattolicatorino.it/event/serata-sulle-orme-di-charles-de-foucauld/
LOCATION:Parrocchia Santa Rosa da Lima\, Via Bardonecchia\, 85\, Torino\, 10139\, Italia
CATEGORIES:Adulti,Giovani
ATTACH;FMTTYPE=image/png:https://azionecattolicatorino.it/wp-content/uploads/2023/05/2_20230502_224618_0001.png
END:VEVENT
END:VCALENDAR