BEGIN:VCALENDAR
VERSION:2.0
PRODID:-//Azione Cattolica Torino - ECPv6.8.3//NONSGML v1.0//EN
CALSCALE:GREGORIAN
METHOD:PUBLISH
X-ORIGINAL-URL:https://azionecattolicatorino.it
X-WR-CALDESC:Eventi per Azione Cattolica Torino
REFRESH-INTERVAL;VALUE=DURATION:PT1H
X-Robots-Tag:noindex
X-PUBLISHED-TTL:PT1H
BEGIN:VTIMEZONE
TZID:Europe/Rome
BEGIN:DAYLIGHT
TZOFFSETFROM:+0100
TZOFFSETTO:+0200
TZNAME:CEST
DTSTART:20230326T010000
END:DAYLIGHT
BEGIN:STANDARD
TZOFFSETFROM:+0200
TZOFFSETTO:+0100
TZNAME:CET
DTSTART:20231029T010000
END:STANDARD
END:VTIMEZONE
BEGIN:VEVENT
DTSTART;TZID=Europe/Rome:20230305T160000
DTEND;TZID=Europe/Rome:20230305T200000
DTSTAMP:20260422T070708
CREATED:20220725T155412Z
LAST-MODIFIED:20230214T091044Z
UID:5552-1678032000-1678046400@azionecattolicatorino.it
SUMMARY:Assemblea diocesana
DESCRIPTION:
URL:https://azionecattolicatorino.it/event/assemblea-diocesana-5/
LOCATION:Salone conferenze – Parrocchia Santa Rita\, via Vernazza 26/B\, Torino\, 10136\, Italia
CATEGORIES:ACR,Adulti,Giovani
ATTACH;FMTTYPE=image/png:https://azionecattolicatorino.it/wp-content/uploads/2023/02/Di-Dio-nella-Storia-5.png
END:VEVENT
BEGIN:VEVENT
DTSTART;VALUE=DATE:20230306
DTEND;VALUE=DATE:20230313
DTSTAMP:20260422T070708
CREATED:20220725T155519Z
LAST-MODIFIED:20230227T094430Z
UID:5556-1678060800-1678665599@azionecattolicatorino.it
SUMMARY:Settimana comunitaria
DESCRIPTION:
URL:https://azionecattolicatorino.it/event/settimana-comunitaria/
CATEGORIES:Giovani
ATTACH;FMTTYPE=image/jpeg:https://azionecattolicatorino.it/wp-content/uploads/2023/02/Settimana-comunitaria.jpg
END:VEVENT
BEGIN:VEVENT
DTSTART;TZID=Europe/Rome:20230306T190000
DTEND;TZID=Europe/Rome:20230306T213000
DTSTAMP:20260422T070708
CREATED:20220725T155443Z
LAST-MODIFIED:20221003T104146Z
UID:5554-1678129200-1678138200@azionecattolicatorino.it
SUMMARY:Adoro il lunedì
DESCRIPTION:
URL:https://azionecattolicatorino.it/event/adoro-il-lunedi-42/
LOCATION:Centro diocesano\, Corso Giacomo Matteotti 11\, Torino\, 10121\, Italia
CATEGORIES:Giovani
ATTACH;FMTTYPE=image/jpeg:https://azionecattolicatorino.it/wp-content/uploads/2022/10/Adoro-il-lunedì-22.jpg
END:VEVENT
BEGIN:VEVENT
DTSTART;TZID=Europe/Rome:20230318T100000
DTEND;TZID=Europe/Rome:20230318T160000
DTSTAMP:20260422T070708
CREATED:20230222T090556Z
LAST-MODIFIED:20230222T091713Z
UID:6076-1679133600-1679155200@azionecattolicatorino.it
SUMMARY:San Giuseppe 2023
DESCRIPTION:
URL:https://azionecattolicatorino.it/event/san-giuseppe-2023/
LOCATION:Parrocchia san Giuseppe – Collegno\, Via Venaria\, 11\, Collegno TO\, 10093
CATEGORIES:Adulti,Giovani
ATTACH;FMTTYPE=image/png:https://azionecattolicatorino.it/wp-content/uploads/2023/02/Screenshot-from-2023-02-22-09-59-30.png
END:VEVENT
BEGIN:VEVENT
DTSTART;TZID=Europe/Rome:20230325T143000
DTEND;TZID=Europe/Rome:20230326T180000
DTSTAMP:20260422T070708
CREATED:20220725T155700Z
LAST-MODIFIED:20230306T090054Z
UID:5562-1679754600-1679853600@azionecattolicatorino.it
SUMMARY:Ritiro Quaresima giovanissimi
DESCRIPTION:
URL:https://azionecattolicatorino.it/event/ritiro-quaresima-giovanissimi-3/
LOCATION:Capanna di Claviere\, Strada Comunale Valle Gimont\, 17\, Claviere\, 10050\, Italia
CATEGORIES:Giovani
ATTACH;FMTTYPE=image/png:https://azionecattolicatorino.it/wp-content/uploads/2022/07/Sulla-Soglia.png
END:VEVENT
END:VCALENDAR