BEGIN:VCALENDAR
VERSION:2.0
PRODID:-//Azione Cattolica Torino - ECPv6.8.3//NONSGML v1.0//EN
CALSCALE:GREGORIAN
METHOD:PUBLISH
X-ORIGINAL-URL:https://azionecattolicatorino.it
X-WR-CALDESC:Eventi per Azione Cattolica Torino
REFRESH-INTERVAL;VALUE=DURATION:PT1H
X-Robots-Tag:noindex
X-PUBLISHED-TTL:PT1H
BEGIN:VTIMEZONE
TZID:Europe/Rome
BEGIN:DAYLIGHT
TZOFFSETFROM:+0100
TZOFFSETTO:+0200
TZNAME:CEST
DTSTART:20230326T010000
END:DAYLIGHT
BEGIN:STANDARD
TZOFFSETFROM:+0200
TZOFFSETTO:+0100
TZNAME:CET
DTSTART:20231029T010000
END:STANDARD
END:VTIMEZONE
BEGIN:VEVENT
DTSTART;TZID=Europe/Rome:20230203T204500
DTEND;TZID=Europe/Rome:20230203T230000
DTSTAMP:20260422T070709
CREATED:20220725T155003Z
LAST-MODIFIED:20230127T091115Z
UID:5546-1675457100-1675465200@azionecattolicatorino.it
SUMMARY:Festa della Pace - giovani e adulti
DESCRIPTION:
URL:https://azionecattolicatorino.it/event/festa-della-pace-giovani-e-adulti-2/
LOCATION:Sermig Arsenale della Pace\, Via Borgo Dora\, 61\, Torino\, 10152\, Italia
CATEGORIES:Adulti,Giovani
ATTACH;FMTTYPE=image/png:https://azionecattolicatorino.it/wp-content/uploads/2023/01/Festa-della11.png
END:VEVENT
BEGIN:VEVENT
DTSTART;TZID=Europe/Rome:20230206T190000
DTEND;TZID=Europe/Rome:20230206T213000
DTSTAMP:20260422T070709
CREATED:20220725T155040Z
LAST-MODIFIED:20221003T104114Z
UID:5548-1675710000-1675719000@azionecattolicatorino.it
SUMMARY:Adoro il lunedì
DESCRIPTION:
URL:https://azionecattolicatorino.it/event/adoro-il-lunedi-41/
LOCATION:Centro diocesano\, Corso Giacomo Matteotti 11\, Torino\, 10121\, Italia
CATEGORIES:Giovani
ATTACH;FMTTYPE=image/jpeg:https://azionecattolicatorino.it/wp-content/uploads/2022/10/Adoro-il-lunedì-22.jpg
END:VEVENT
BEGIN:VEVENT
DTSTART;TZID=Europe/Rome:20230215T204500
DTEND;TZID=Europe/Rome:20230215T224500
DTSTAMP:20260422T070709
CREATED:20220725T155319Z
LAST-MODIFIED:20230208T142124Z
UID:5550-1676493900-1676501100@azionecattolicatorino.it
SUMMARY:Formazione educatori giovanissimi
DESCRIPTION:
URL:https://azionecattolicatorino.it/event/formazione-educatori-giovanissimi-4/
LOCATION:Centro diocesano\, Corso Giacomo Matteotti 11\, Torino\, 10121\, Italia
CATEGORIES:Giovani
ATTACH;FMTTYPE=image/jpeg:https://azionecattolicatorino.it/wp-content/uploads/2023/02/Formazione-15-febbraio.jpg
END:VEVENT
END:VCALENDAR