BEGIN:VCALENDAR
VERSION:2.0
PRODID:-//Azione Cattolica Torino - ECPv6.8.3//NONSGML v1.0//EN
CALSCALE:GREGORIAN
METHOD:PUBLISH
X-ORIGINAL-URL:https://azionecattolicatorino.it
X-WR-CALDESC:Eventi per Azione Cattolica Torino
REFRESH-INTERVAL;VALUE=DURATION:PT1H
X-Robots-Tag:noindex
X-PUBLISHED-TTL:PT1H
BEGIN:VTIMEZONE
TZID:Europe/Rome
BEGIN:DAYLIGHT
TZOFFSETFROM:+0100
TZOFFSETTO:+0200
TZNAME:CEST
DTSTART:20210328T010000
END:DAYLIGHT
BEGIN:STANDARD
TZOFFSETFROM:+0200
TZOFFSETTO:+0100
TZNAME:CET
DTSTART:20211031T010000
END:STANDARD
END:VTIMEZONE
BEGIN:VEVENT
DTSTART;TZID=Europe/Rome:20211014T180000
DTEND;TZID=Europe/Rome:20211014T220000
DTSTAMP:20260425T123227
CREATED:20210726T112852Z
LAST-MODIFIED:20210927T133450Z
UID:4540-1634234400-1634248800@azionecattolicatorino.it
SUMMARY:Incontro con presidenti nazionali AC e ACLI
DESCRIPTION:
URL:https://azionecattolicatorino.it/event/incontro-con-presidenti-nazionali-ac-e-acli/
LOCATION:Fabbrica delle “e”\, corso Trapani 91/B\, Torino\, 10141\, Italia
CATEGORIES:ACR,Adulti,Giovani
ATTACH;FMTTYPE=image/jpeg:https://azionecattolicatorino.it/wp-content/uploads/2021/09/IMG-20210923-WA0017.jpg
END:VEVENT
BEGIN:VEVENT
DTSTART;TZID=Europe/Rome:20211018T183000
DTEND;TZID=Europe/Rome:20211018T210000
DTSTAMP:20260425T123227
CREATED:20210726T113015Z
LAST-MODIFIED:20210927T160051Z
UID:4542-1634581800-1634590800@azionecattolicatorino.it
SUMMARY:Adoro il lunedì
DESCRIPTION:
URL:https://azionecattolicatorino.it/event/adoro-il-lunedi-30/
LOCATION:Centro diocesano\, Corso Giacomo Matteotti 11\, Torino\, 10121\, Italia
CATEGORIES:Giovani
ATTACH;FMTTYPE=image/png:https://azionecattolicatorino.it/wp-content/uploads/2021/07/Adoro-il-Lunedì.png
END:VEVENT
BEGIN:VEVENT
DTSTART;TZID=Europe/Rome:20211018T183000
DTEND;TZID=Europe/Rome:20211018T230000
DTSTAMP:20260425T123227
CREATED:20210726T113122Z
LAST-MODIFIED:20211005T092954Z
UID:4546-1634581800-1634598000@azionecattolicatorino.it
SUMMARY:Torino Centro
DESCRIPTION:
URL:https://azionecattolicatorino.it/event/torino-centro/
LOCATION:Centro diocesano\, Corso Giacomo Matteotti 11\, Torino\, 10121\, Italia
CATEGORIES:Giovani
ATTACH;FMTTYPE=image/jpeg:https://azionecattolicatorino.it/wp-content/uploads/2021/07/To-centro-2021.jpeg
END:VEVENT
BEGIN:VEVENT
DTSTART;TZID=Europe/Rome:20211021T204500
DTEND;TZID=Europe/Rome:20211021T230000
DTSTAMP:20260425T123227
CREATED:20210726T113055Z
LAST-MODIFIED:20211008T140743Z
UID:4544-1634849100-1634857200@azionecattolicatorino.it
SUMMARY:Incontro Poliedro
DESCRIPTION:
URL:https://azionecattolicatorino.it/event/incontro-poliedro-6/
LOCATION:Centro diocesano\, Corso Giacomo Matteotti 11\, Torino\, 10121\, Italia
CATEGORIES:Adulti,Giovani
ATTACH;FMTTYPE=image/jpeg:https://azionecattolicatorino.it/wp-content/uploads/2021/07/Poliedro-21-ottobre.jpg
END:VEVENT
BEGIN:VEVENT
DTSTART;VALUE=DATE:20211026
DTEND;VALUE=DATE:20211027
DTSTAMP:20260425T123227
CREATED:20210726T113232Z
LAST-MODIFIED:20210726T113232Z
UID:4550-1635206400-1635292799@azionecattolicatorino.it
SUMMARY:Formazione educatori giovanissimi
DESCRIPTION:
URL:https://azionecattolicatorino.it/event/formazione-educatori-giovanissimi/
LOCATION:Centro diocesano\, Corso Giacomo Matteotti 11\, Torino\, 10121\, Italia
CATEGORIES:Giovani
END:VEVENT
END:VCALENDAR