BEGIN:VCALENDAR
VERSION:2.0
PRODID:-//Azione Cattolica Torino - ECPv6.8.3//NONSGML v1.0//EN
CALSCALE:GREGORIAN
METHOD:PUBLISH
X-WR-CALNAME:Azione Cattolica Torino
X-ORIGINAL-URL:https://azionecattolicatorino.it
X-WR-CALDESC:Eventi per Azione Cattolica Torino
REFRESH-INTERVAL;VALUE=DURATION:PT1H
X-Robots-Tag:noindex
X-PUBLISHED-TTL:PT1H
BEGIN:VTIMEZONE
TZID:Europe/Rome
BEGIN:DAYLIGHT
TZOFFSETFROM:+0100
TZOFFSETTO:+0200
TZNAME:CEST
DTSTART:20210328T010000
END:DAYLIGHT
BEGIN:STANDARD
TZOFFSETFROM:+0200
TZOFFSETTO:+0100
TZNAME:CET
DTSTART:20211031T010000
END:STANDARD
END:VTIMEZONE
BEGIN:VEVENT
DTSTART;VALUE=DATE:20210704
DTEND;VALUE=DATE:20210705
DTSTAMP:20260425T202903
CREATED:20200810T111124Z
LAST-MODIFIED:20200810T111124Z
UID:3440-1625356800-1625443199@azionecattolicatorino.it
SUMMARY:Festa del beato Frassati
DESCRIPTION:
URL:https://azionecattolicatorino.it/event/festa-del-beato-frassati/
CATEGORIES:ACR,Adulti,Giovani
END:VEVENT
BEGIN:VEVENT
DTSTART;VALUE=DATE:20210704
DTEND;VALUE=DATE:20210710
DTSTAMP:20260425T202903
CREATED:20210414T143602Z
LAST-MODIFIED:20210610T134130Z
UID:4141-1625356800-1625875199@azionecattolicatorino.it
SUMMARY:Campo prima e seconda superiore
DESCRIPTION:
URL:https://azionecattolicatorino.it/event/campo-prima-e-seconda-superiore/
LOCATION:Capanna di Claviere\, Strada Comunale Valle Gimont\, 17\, Claviere\, 10050\, Italia
CATEGORIES:Giovani
ATTACH;FMTTYPE=image/png:https://azionecattolicatorino.it/wp-content/uploads/2021/06/campi.png
END:VEVENT
BEGIN:VEVENT
DTSTART;VALUE=DATE:20210709
DTEND;VALUE=DATE:20210715
DTSTAMP:20260425T202903
CREATED:20210414T143657Z
LAST-MODIFIED:20210610T134221Z
UID:4143-1625788800-1626307199@azionecattolicatorino.it
SUMMARY:Campo terza e quarta superiore
DESCRIPTION:
URL:https://azionecattolicatorino.it/event/campo-terza-e-quarta-superiore/
LOCATION:Capanna di Claviere\, Strada Comunale Valle Gimont\, 17\, Claviere\, 10050\, Italia
CATEGORIES:Giovani
ATTACH;FMTTYPE=image/png:https://azionecattolicatorino.it/wp-content/uploads/2021/06/campi.png
END:VEVENT
BEGIN:VEVENT
DTSTART;VALUE=DATE:20210715
DTEND;VALUE=DATE:20210719
DTSTAMP:20260425T202903
CREATED:20210414T143926Z
LAST-MODIFIED:20210528T082351Z
UID:4145-1626307200-1626652799@azionecattolicatorino.it
SUMMARY:Campo quinta superiore
DESCRIPTION:
URL:https://azionecattolicatorino.it/event/campo-quinta-superiore/
CATEGORIES:Giovani
ATTACH;FMTTYPE=image/png:https://azionecattolicatorino.it/wp-content/uploads/2021/05/Campo-V-sup-.png
END:VEVENT
BEGIN:VEVENT
DTSTART;VALUE=DATE:20210729
DTEND;VALUE=DATE:20210802
DTSTAMP:20260425T202903
CREATED:20210414T144012Z
LAST-MODIFIED:20210528T082623Z
UID:4147-1627516800-1627862399@azionecattolicatorino.it
SUMMARY:Campo giovani
DESCRIPTION:
URL:https://azionecattolicatorino.it/event/campo-giovani-3/
CATEGORIES:Giovani
ATTACH;FMTTYPE=image/jpeg:https://azionecattolicatorino.it/wp-content/uploads/2021/05/Giovani.jpeg
END:VEVENT
END:VCALENDAR