BEGIN:VCALENDAR
VERSION:2.0
PRODID:-//Azione Cattolica Torino - ECPv6.8.3//NONSGML v1.0//EN
CALSCALE:GREGORIAN
METHOD:PUBLISH
X-ORIGINAL-URL:https://azionecattolicatorino.it
X-WR-CALDESC:Eventi per Azione Cattolica Torino
REFRESH-INTERVAL;VALUE=DURATION:PT1H
X-Robots-Tag:noindex
X-PUBLISHED-TTL:PT1H
BEGIN:VTIMEZONE
TZID:Europe/Rome
BEGIN:DAYLIGHT
TZOFFSETFROM:+0100
TZOFFSETTO:+0200
TZNAME:CEST
DTSTART:20210328T010000
END:DAYLIGHT
BEGIN:STANDARD
TZOFFSETFROM:+0200
TZOFFSETTO:+0100
TZNAME:CET
DTSTART:20211031T010000
END:STANDARD
END:VTIMEZONE
BEGIN:VEVENT
DTSTART;VALUE=DATE:20210423
DTEND;VALUE=DATE:20210426
DTSTAMP:20260426T055823
CREATED:20200810T110757Z
LAST-MODIFIED:20210406T145504Z
UID:3430-1619136000-1619395199@azionecattolicatorino.it
SUMMARY:Esercizi spirituali - giovani e adulti
DESCRIPTION:
URL:https://azionecattolicatorino.it/event/esercizi-spirituali-giovani-e-adulti-2/
CATEGORIES:Adulti,Giovani
ATTACH;FMTTYPE=image/jpeg:https://azionecattolicatorino.it/wp-content/uploads/2021/04/Esercizi-spot.jpg
END:VEVENT
BEGIN:VEVENT
DTSTART;TZID=Europe/Rome:20210426T183000
DTEND;TZID=Europe/Rome:20210426T210000
DTSTAMP:20260426T055823
CREATED:20200928T074058Z
LAST-MODIFIED:20200928T074058Z
UID:3526-1619461800-1619470800@azionecattolicatorino.it
SUMMARY:Adoro il lunedì
DESCRIPTION:
URL:https://azionecattolicatorino.it/event/adoro-il-lunedi-28/
LOCATION:Centro diocesano\, Corso Giacomo Matteotti 11\, Torino\, 10121\, Italia
CATEGORIES:Giovani
ATTACH;FMTTYPE=image/png:https://azionecattolicatorino.it/wp-content/uploads/2020/08/Adoro-il-Lunedì-2020.png
END:VEVENT
END:VCALENDAR